30.0000000000
0.0000000000
0.0000000000
-30.0000000000
-674190.0000057798
2975789.9999544928
