30.0000000000
0.0000000000
0.0000000000
-30.0000000000
102811.4316272950
5455683.6461294200
