0.851692
0.000000
-0.000000
-0.851692
2765476.204522
584976.049055
