3.062928
1.175748
1.175748
-3.062928
2753498.255393
444271.126921
