0.500000
0.000000
0.000000
-0.500000
2879510.750000
567856.750000
