0.500000
0.000000
0.000000
-0.500000
2882301.250000
565304.750000
