0.500000
0.000000
0.000000
-0.500000
2876758.250000
570429.750000
