0.500000
0.000000
0.000000
-0.500000
2876623.750000
573076.250000
