0.500000
0.000000
0.000000
-0.500000
2879236.250000
573156.250000
