0.500000
0.000000
0.000000
-0.500000
2875431.250000
535974.750000
