0.500000
0.000000
0.000000
-0.500000
2875499.750000
533305.750000
