0.500000
0.000000
0.000000
-0.500000
2880552.250000
541398.250000
