0.500000
0.000000
0.000000
-0.500000
2880640.250000
538763.750000
