0.500000
0.000000
0.000000
-0.500000
2880466.750000
544049.250000
