0.500000
0.000000
0.000000
-0.500000
2883105.750000
544116.750000
