0.500000
0.000000
0.000000
-0.500000
2877733.750000
546624.750000
