0.500000
0.000000
0.000000
-0.500000
2880295.250000
549300.750000
