0.500000
0.000000
0.000000
-0.500000
2880102.250000
554691.250000
