0.500000
0.000000
0.000000
-0.500000
2877465.250000
554584.750000
