0.500000
0.000000
0.000000
-0.500000
2877376.750000
557224.250000
