0.500000
0.000000
0.000000
-0.500000
2877191.750000
562539.250000
