0.500000
0.000000
0.000000
-0.500000
2879821.750000
562658.250000
