0.500000
0.000000
0.000000
-0.500000
2896244.750000
537151.250000
