0.500000
0.000000
0.000000
-0.500000
2893590.250000
537009.250000
