0.500000
0.000000
0.000000
-0.500000
2885866.250000
533857.250000
