0.500000
0.000000
0.000000
-0.500000
2888328.750000
536705.750000
