0.500000
0.000000
0.000000
-0.500000
2885479.250000
541789.250000
