0.500000
0.000000
0.000000
-0.500000
2893442.250000
539644.250000
