0.500000
0.000000
0.000000
-0.500000
2885359.250000
544382.250000
