0.500000
0.000000
0.000000
-0.500000
2850397.250000
503361.750000
