0.500000
0.000000
0.000000
-0.500000
2853068.250000
503479.250000
