0.500000
0.000000
0.000000
-0.500000
2842603.250000
500361.250000
