0.500000
0.000000
0.000000
-0.500000
2842480.750000
503004.750000
