0.500000
0.000000
0.000000
-0.500000
2834654.750000
500009.750000
