0.500000
0.000000
0.000000
-0.500000
2823843.250000
507454.750000
