0.500000
0.000000
0.000000
-0.500000
2826511.250000
504940.250000
