0.500000
0.000000
0.000000
-0.500000
2834406.250000
505288.250000
