0.500000
0.000000
0.000000
-0.500000
2844902.750000
508395.250000
