0.500000
0.000000
0.000000
-0.500000
2845018.750000
505759.750000
