0.500000
0.000000
0.000000
-0.500000
2882279.250000
502024.250000
