0.500000
0.000000
0.000000
-0.500000
2866381.750000
501377.250000
