0.500000
0.000000
0.000000
-0.500000
2855638.250000
506233.250000
