0.500000
0.000000
0.000000
-0.500000
2860735.250000
509086.250000
