0.500000
0.000000
0.000000
-0.500000
2863381.750000
509193.250000
