0.500000
0.000000
0.000000
-0.500000
2866150.250000
506672.250000
