0.500000
0.000000
0.000000
-0.500000
2871314.250000
509541.750000
