0.500000
0.000000
0.000000
-0.500000
2876627.250000
509746.250000
