0.500000
0.000000
0.000000
-0.500000
2879293.750000
509847.250000
