0.500000
0.000000
0.000000
-0.500000
2881959.750000
509930.250000
