0.500000
0.000000
0.000000
-0.500000
2881687.750000
515307.250000
